BEGIN:VCALENDAR
VERSION:2.0
PRODID:-//meinDressing.shop - ECPv6.15.20//NONSGML v1.0//EN
CALSCALE:GREGORIAN
METHOD:PUBLISH
X-WR-CALNAME:meinDressing.shop
X-ORIGINAL-URL:https://meindressing.shop
X-WR-CALDESC:Veranstaltungen für meinDressing.shop
REFRESH-INTERVAL;VALUE=DURATION:PT1H
X-Robots-Tag:noindex
X-PUBLISHED-TTL:PT1H
BEGIN:VTIMEZONE
TZID:Europe/Berlin
BEGIN:DAYLIGHT
TZOFFSETFROM:+0100
TZOFFSETTO:+0200
TZNAME:CEST
DTSTART:20250330T010000
END:DAYLIGHT
BEGIN:STANDARD
TZOFFSETFROM:+0200
TZOFFSETTO:+0100
TZNAME:CET
DTSTART:20251026T010000
END:STANDARD
BEGIN:DAYLIGHT
TZOFFSETFROM:+0100
TZOFFSETTO:+0200
TZNAME:CEST
DTSTART:20260329T010000
END:DAYLIGHT
BEGIN:STANDARD
TZOFFSETFROM:+0200
TZOFFSETTO:+0100
TZNAME:CET
DTSTART:20261025T010000
END:STANDARD
BEGIN:DAYLIGHT
TZOFFSETFROM:+0100
TZOFFSETTO:+0200
TZNAME:CEST
DTSTART:20270328T010000
END:DAYLIGHT
BEGIN:STANDARD
TZOFFSETFROM:+0200
TZOFFSETTO:+0100
TZNAME:CET
DTSTART:20271031T010000
END:STANDARD
END:VTIMEZONE
BEGIN:VEVENT
DTSTART;TZID=Europe/Berlin:20260425T110000
DTEND;TZID=Europe/Berlin:20260425T160000
DTSTAMP:20260420T093025
CREATED:20260313T170411Z
LAST-MODIFIED:20260313T170411Z
UID:17611-1777114800-1777132800@meindressing.shop
SUMMARY:Freiheits-Laden geöffnet !
DESCRIPTION:Unsere ganze Auswahl an Essigen\, Senfen\, Salatdressings und vielem mehr können Sie direkt vor Ort in unserem Freiheits-Laden verkosten und erwerben.\nZusätzlich zu unserem Online-Angebot finden Sie hier noch viele weitere Produkte aus eigener Herstellung oder von ausgesuchten Produzenten.
URL:https://meindressing.shop/event/freiheits-laden-geoeffnet-4/
LOCATION:Essigmanufaktur zur Freiheit\, Freiheitsstraße 20\, Reichelsheim\, Hessen\, 64385\, Deutschland
CATEGORIES:Freiheits-Laden
ATTACH;FMTTYPE=:
ORGANIZER;CN="Essigmanufaktur zur Freiheit":MAILTO:info@zurfreiheit.de
END:VEVENT
BEGIN:VEVENT
DTSTART;TZID=Europe/Berlin:20260502T080000
DTEND;TZID=Europe/Berlin:20260502T170000
DTSTAMP:20260420T093025
CREATED:20260313T170756Z
LAST-MODIFIED:20260313T170756Z
UID:17619-1777708800-1777741200@meindressing.shop
SUMMARY:Urlaub
DESCRIPTION:Wir haben unseren Freiheits-Laden geschlossen– am Freiheits-Laden unterm Kirschbaum sowie bei allen Händlern auf unserer Händlerliste gibt es natürlich weiterhin unsere Produkte!
URL:https://meindressing.shop/event/urlaub/
LOCATION:Essigmanufaktur zur Freiheit\, Freiheitsstraße 20\, Reichelsheim\, Hessen\, 64385\, Deutschland
CATEGORIES:Urlaub
ATTACH;FMTTYPE=image/jpeg:https://meindressing.shop/wp-content/uploads/elisabeth_in_der_haengematte.jpg
ORGANIZER;CN="Essigmanufaktur zur Freiheit":MAILTO:info@zurfreiheit.de
END:VEVENT
END:VCALENDAR